BEGIN:VCALENDAR
VERSION:2.0
PRODID:-//Weathersfield Service Group - ECPv6.15.20//NONSGML v1.0//EN
CALSCALE:GREGORIAN
METHOD:PUBLISH
X-ORIGINAL-URL:https://www.weathersfieldsg.org
X-WR-CALDESC:Events for Weathersfield Service Group
REFRESH-INTERVAL;VALUE=DURATION:PT1H
X-Robots-Tag:noindex
X-PUBLISHED-TTL:PT1H
BEGIN:VTIMEZONE
TZID:America/New_York
BEGIN:DAYLIGHT
TZOFFSETFROM:-0500
TZOFFSETTO:-0400
TZNAME:EDT
DTSTART:20160313T070000
END:DAYLIGHT
BEGIN:STANDARD
TZOFFSETFROM:-0400
TZOFFSETTO:-0500
TZNAME:EST
DTSTART:20161106T060000
END:STANDARD
BEGIN:DAYLIGHT
TZOFFSETFROM:-0500
TZOFFSETTO:-0400
TZNAME:EDT
DTSTART:20170312T070000
END:DAYLIGHT
BEGIN:STANDARD
TZOFFSETFROM:-0400
TZOFFSETTO:-0500
TZNAME:EST
DTSTART:20171105T060000
END:STANDARD
BEGIN:DAYLIGHT
TZOFFSETFROM:-0500
TZOFFSETTO:-0400
TZNAME:EDT
DTSTART:20180311T070000
END:DAYLIGHT
BEGIN:STANDARD
TZOFFSETFROM:-0400
TZOFFSETTO:-0500
TZNAME:EST
DTSTART:20181104T060000
END:STANDARD
BEGIN:DAYLIGHT
TZOFFSETFROM:-0500
TZOFFSETTO:-0400
TZNAME:EDT
DTSTART:20190310T070000
END:DAYLIGHT
BEGIN:STANDARD
TZOFFSETFROM:-0400
TZOFFSETTO:-0500
TZNAME:EST
DTSTART:20191103T060000
END:STANDARD
END:VTIMEZONE
BEGIN:VEVENT
DTSTART;VALUE=DATE:20180118
DTEND;VALUE=DATE:20180119
DTSTAMP:20260423T230941
CREATED:20171220T165428Z
LAST-MODIFIED:20171220T204854Z
UID:5648-1516233600-1516319999@www.weathersfieldsg.org
SUMMARY:Christmas Tree Collection
DESCRIPTION:Ruppert will pick up Christmas trees on Thursday\, January 4 and January 18.  Please leave your old tree where you normally leave recyclables. 
URL:https://www.weathersfieldsg.org/event/christmas-tree-collection-2/
CATEGORIES:Services
END:VEVENT
BEGIN:VEVENT
DTSTART;VALUE=DATE:20180104
DTEND;VALUE=DATE:20180105
DTSTAMP:20260423T230941
CREATED:20171220T165336Z
LAST-MODIFIED:20171220T165336Z
UID:5646-1515024000-1515110399@www.weathersfieldsg.org
SUMMARY:Christmas Tree Collection
DESCRIPTION:Ruppert will pick up Christmas trees on Thursday\, January 4 and January 18.  Please leave your old tree where you normally leave recyclables. 
URL:https://www.weathersfieldsg.org/event/christmas-tree-collection/
CATEGORIES:Services
END:VEVENT
BEGIN:VEVENT
DTSTART;VALUE=DATE:20180103
DTEND;VALUE=DATE:20180104
DTSTAMP:20260423T230941
CREATED:20171130T232640Z
LAST-MODIFIED:20180311T201337Z
UID:5595-1514937600-1515023999@www.weathersfieldsg.org
SUMMARY:New Year's Makeup Trash Pickup Day
DESCRIPTION:Trash will not be picked up Tuesday\, January 2.  Makeup day is Wednesday\, January 3.
URL:https://www.weathersfieldsg.org/event/new-years-makeup-trash-pickup-day/
CATEGORIES:Services
END:VEVENT
BEGIN:VEVENT
DTSTART;VALUE=DATE:20171227
DTEND;VALUE=DATE:20171228
DTSTAMP:20260423T230941
CREATED:20171130T232540Z
LAST-MODIFIED:20181026T151030Z
UID:5593-1514332800-1514419199@www.weathersfieldsg.org
SUMMARY:Christmas Makeup Trash Pickup Day
DESCRIPTION:Trash will not be picked up Tuesday\, December 26.  Makeup day is Wednesday\, December 27.
URL:https://www.weathersfieldsg.org/event/makeup-trash-pickup-day/
CATEGORIES:Services
END:VEVENT
BEGIN:VEVENT
DTSTART;VALUE=DATE:20170927
DTEND;VALUE=DATE:20170929
DTSTAMP:20260423T230941
CREATED:20170914T195658Z
LAST-MODIFIED:20181026T151320Z
UID:5480-1506470400-1506643199@www.weathersfieldsg.org
SUMMARY:Termite Inspection
DESCRIPTION:Pest & Termite  Consultants will be conducting annual termite inspections on Wednesday\, September 27 and Thursday\, September 28 between the hours of 8 am and 5 pm.
URL:https://www.weathersfieldsg.org/event/termite-inspection/
CATEGORIES:Services
END:VEVENT
BEGIN:VEVENT
DTSTART;TZID=America/New_York:20170919T120000
DTEND;TZID=America/New_York:20170919T170000
DTSTAMP:20260423T230941
CREATED:20170919T170042Z
LAST-MODIFIED:20181026T151320Z
UID:5494-1505822400-1505840400@www.weathersfieldsg.org
SUMMARY:Asphalt Repairs -- Final Day
DESCRIPTION:Large racks in the asphalt will be sealed today.
URL:https://www.weathersfieldsg.org/event/asphalt-repairs-final-day/
CATEGORIES:Services
END:VEVENT
BEGIN:VEVENT
DTSTART;VALUE=DATE:20170914
DTEND;VALUE=DATE:20170916
DTSTAMP:20260423T230941
CREATED:20170907T184609Z
LAST-MODIFIED:20181026T151321Z
UID:5337-1505347200-1505519999@www.weathersfieldsg.org
SUMMARY:Asphalt Repairs
DESCRIPTION:Asphalt Enterprises will be making repairs to parking lots around Weathersfield on Thursday and Friday\, September 14 and 15\, weather permitting.
URL:https://www.weathersfieldsg.org/event/asphalt-repairs/
CATEGORIES:Services
END:VEVENT
END:VCALENDAR