BEGIN:VCALENDAR
VERSION:2.0
PRODID:-//Weathersfield Service Group - ECPv6.15.20//NONSGML v1.0//EN
CALSCALE:GREGORIAN
METHOD:PUBLISH
X-ORIGINAL-URL:https://www.weathersfieldsg.org
X-WR-CALDESC:Events for Weathersfield Service Group
REFRESH-INTERVAL;VALUE=DURATION:PT1H
X-Robots-Tag:noindex
X-PUBLISHED-TTL:PT1H
BEGIN:VTIMEZONE
TZID:America/New_York
BEGIN:DAYLIGHT
TZOFFSETFROM:-0500
TZOFFSETTO:-0400
TZNAME:EDT
DTSTART:20250309T070000
END:DAYLIGHT
BEGIN:STANDARD
TZOFFSETFROM:-0400
TZOFFSETTO:-0500
TZNAME:EST
DTSTART:20251102T060000
END:STANDARD
BEGIN:DAYLIGHT
TZOFFSETFROM:-0500
TZOFFSETTO:-0400
TZNAME:EDT
DTSTART:20260308T070000
END:DAYLIGHT
BEGIN:STANDARD
TZOFFSETFROM:-0400
TZOFFSETTO:-0500
TZNAME:EST
DTSTART:20261101T060000
END:STANDARD
BEGIN:DAYLIGHT
TZOFFSETFROM:-0500
TZOFFSETTO:-0400
TZNAME:EDT
DTSTART:20270314T070000
END:DAYLIGHT
BEGIN:STANDARD
TZOFFSETFROM:-0400
TZOFFSETTO:-0500
TZNAME:EST
DTSTART:20271107T060000
END:STANDARD
END:VTIMEZONE
BEGIN:VEVENT
DTSTART;TZID=America/New_York:20261107T100000
DTEND;TZID=America/New_York:20261107T120000
DTSTAMP:20260423T163023
CREATED:20260223T185629Z
LAST-MODIFIED:20260223T185629Z
UID:9569-1794045600-1794052800@www.weathersfieldsg.org
SUMMARY:WSG ANNUAL GENERAL MEETING
DESCRIPTION:
URL:https://www.weathersfieldsg.org/event/wsg-annual-general-meeting-2026/
LOCATION:The Gathering Place\, 26 Swim & Croquet\, Pittsboro\, NC\, 27312\, United States
CATEGORIES:WSG Homeowners Meeting
END:VEVENT
END:VCALENDAR