BEGIN:VCALENDAR
VERSION:2.0
PRODID:-//Weathersfield Service Group - ECPv6.15.20//NONSGML v1.0//EN
CALSCALE:GREGORIAN
METHOD:PUBLISH
X-WR-CALNAME:Weathersfield Service Group
X-ORIGINAL-URL:https://www.weathersfieldsg.org
X-WR-CALDESC:Events for Weathersfield Service Group
REFRESH-INTERVAL;VALUE=DURATION:PT1H
X-Robots-Tag:noindex
X-PUBLISHED-TTL:PT1H
BEGIN:VTIMEZONE
TZID:America/New_York
BEGIN:DAYLIGHT
TZOFFSETFROM:-0500
TZOFFSETTO:-0400
TZNAME:EDT
DTSTART:20210314T070000
END:DAYLIGHT
BEGIN:STANDARD
TZOFFSETFROM:-0400
TZOFFSETTO:-0500
TZNAME:EST
DTSTART:20211107T060000
END:STANDARD
BEGIN:DAYLIGHT
TZOFFSETFROM:-0500
TZOFFSETTO:-0400
TZNAME:EDT
DTSTART:20220313T070000
END:DAYLIGHT
BEGIN:STANDARD
TZOFFSETFROM:-0400
TZOFFSETTO:-0500
TZNAME:EST
DTSTART:20221106T060000
END:STANDARD
BEGIN:DAYLIGHT
TZOFFSETFROM:-0500
TZOFFSETTO:-0400
TZNAME:EDT
DTSTART:20230312T070000
END:DAYLIGHT
BEGIN:STANDARD
TZOFFSETFROM:-0400
TZOFFSETTO:-0500
TZNAME:EST
DTSTART:20231105T060000
END:STANDARD
BEGIN:DAYLIGHT
TZOFFSETFROM:-0500
TZOFFSETTO:-0400
TZNAME:EDT
DTSTART:20240310T070000
END:DAYLIGHT
BEGIN:STANDARD
TZOFFSETFROM:-0400
TZOFFSETTO:-0500
TZNAME:EST
DTSTART:20241103T060000
END:STANDARD
BEGIN:DAYLIGHT
TZOFFSETFROM:-0500
TZOFFSETTO:-0400
TZNAME:EDT
DTSTART:20250309T070000
END:DAYLIGHT
BEGIN:STANDARD
TZOFFSETFROM:-0400
TZOFFSETTO:-0500
TZNAME:EST
DTSTART:20251102T060000
END:STANDARD
BEGIN:DAYLIGHT
TZOFFSETFROM:-0500
TZOFFSETTO:-0400
TZNAME:EDT
DTSTART:20260308T070000
END:DAYLIGHT
BEGIN:STANDARD
TZOFFSETFROM:-0400
TZOFFSETTO:-0500
TZNAME:EST
DTSTART:20261101T060000
END:STANDARD
END:VTIMEZONE
BEGIN:VEVENT
DTSTART;TZID=America/New_York:20251108T143000
DTEND;TZID=America/New_York:20251108T163000
DTSTAMP:20260423T201954
CREATED:20250109T011431Z
LAST-MODIFIED:20250109T011431Z
UID:9240-1762612200-1762619400@www.weathersfieldsg.org
SUMMARY:WSG ANNUAL GENERAL MEETING
DESCRIPTION:
URL:https://www.weathersfieldsg.org/event/wsg-annual-general-meeting/
LOCATION:The Gathering Place\, 26 Swim & Croquet\, Pittsboro\, NC\, 27312\, United States
CATEGORIES:WSG Homeowners Meeting
END:VEVENT
BEGIN:VEVENT
DTSTART;TZID=America/New_York:20251023T140000
DTEND;TZID=America/New_York:20251023T160000
DTSTAMP:20260423T201954
CREATED:20250109T010743Z
LAST-MODIFIED:20250109T010743Z
UID:9236-1761228000-1761235200@www.weathersfieldsg.org
SUMMARY:WSG BOARD OF DIRECTORS' MEETING
DESCRIPTION:
URL:https://www.weathersfieldsg.org/event/wsg-board-of-directors-meeting-31/
LOCATION:The Gathering Place\, 26 Swim & Croquet\, Pittsboro\, NC\, 27312\, United States
CATEGORIES:Board Meeting
END:VEVENT
BEGIN:VEVENT
DTSTART;TZID=America/New_York:20250925T140000
DTEND;TZID=America/New_York:20250925T160000
DTSTAMP:20260423T201954
CREATED:20250109T010503Z
LAST-MODIFIED:20250109T010503Z
UID:9234-1758808800-1758816000@www.weathersfieldsg.org
SUMMARY:WSG BOARD OF DIRECTORS' MEETING
DESCRIPTION:
URL:https://www.weathersfieldsg.org/event/wsg-board-of-directors-meeting-30/
LOCATION:The Gathering Place\, 26 Swim & Croquet\, Pittsboro\, NC\, 27312\, United States
CATEGORIES:Board Meeting
END:VEVENT
BEGIN:VEVENT
DTSTART;TZID=America/New_York:20250828T140000
DTEND;TZID=America/New_York:20250828T160000
DTSTAMP:20260423T201954
CREATED:20250109T010334Z
LAST-MODIFIED:20250109T010334Z
UID:9232-1756389600-1756396800@www.weathersfieldsg.org
SUMMARY:WSG BOARD OF DIRECTORS' MEETING
DESCRIPTION:
URL:https://www.weathersfieldsg.org/event/wsg-board-of-directors-meeting-29/
LOCATION:The Gathering Place\, 26 Swim & Croquet\, Pittsboro\, NC\, 27312\, United States
CATEGORIES:Board Meeting
END:VEVENT
BEGIN:VEVENT
DTSTART;TZID=America/New_York:20250626T140000
DTEND;TZID=America/New_York:20250626T160000
DTSTAMP:20260423T201954
CREATED:20250109T010206Z
LAST-MODIFIED:20250109T010206Z
UID:9230-1750946400-1750953600@www.weathersfieldsg.org
SUMMARY:WSG BOARD OF DIRECTORS' MEETING
DESCRIPTION:
URL:https://www.weathersfieldsg.org/event/wsg-board-of-directors-meeting-28/
LOCATION:The Gathering Place\, 26 Swim & Croquet\, Pittsboro\, NC\, 27312\, United States
CATEGORIES:Board Meeting
END:VEVENT
BEGIN:VEVENT
DTSTART;TZID=America/New_York:20250522T140000
DTEND;TZID=America/New_York:20250522T160000
DTSTAMP:20260423T201954
CREATED:20250109T005941Z
LAST-MODIFIED:20250109T005941Z
UID:9228-1747922400-1747929600@www.weathersfieldsg.org
SUMMARY:WSG BOARD OF DIRECTORS' MEETING
DESCRIPTION:
URL:https://www.weathersfieldsg.org/event/wsg-board-of-directors-meeting-27/
LOCATION:NC
CATEGORIES:Board Meeting
END:VEVENT
BEGIN:VEVENT
DTSTART;TZID=America/New_York:20250424T140000
DTEND;TZID=America/New_York:20250424T160000
DTSTAMP:20260423T201954
CREATED:20250109T005827Z
LAST-MODIFIED:20250109T010050Z
UID:9226-1745503200-1745510400@www.weathersfieldsg.org
SUMMARY:WSG BOARD OF DIRECTORS' MEETING
DESCRIPTION:
URL:https://www.weathersfieldsg.org/event/wsg-board-of-directors-meeting-26/
LOCATION:The Gathering Place\, 26 Swim & Croquet\, Pittsboro\, NC\, 27312\, United States
CATEGORIES:Board Meeting
END:VEVENT
BEGIN:VEVENT
DTSTART;TZID=America/New_York:20250327T140000
DTEND;TZID=America/New_York:20250327T160000
DTSTAMP:20260423T201954
CREATED:20250109T005727Z
LAST-MODIFIED:20250109T011729Z
UID:9224-1743084000-1743091200@www.weathersfieldsg.org
SUMMARY:WSG BOARD OF DIRECTORS' MEETING
DESCRIPTION:
URL:https://www.weathersfieldsg.org/event/wsg-board-of-directors-meeting-25/
LOCATION:The Gathering Place\, 26 Swim & Croquet\, Pittsboro\, NC\, 27312\, United States
CATEGORIES:Board Meeting
END:VEVENT
BEGIN:VEVENT
DTSTART;TZID=America/New_York:20250227T140000
DTEND;TZID=America/New_York:20250227T160000
DTSTAMP:20260423T201954
CREATED:20250109T005614Z
LAST-MODIFIED:20250109T005614Z
UID:9222-1740664800-1740672000@www.weathersfieldsg.org
SUMMARY:WSG BOARD OF DIRECTORS' MEETING
DESCRIPTION:
URL:https://www.weathersfieldsg.org/event/wsg-board-of-directors-meeting-24/
LOCATION:The Gathering Place\, 26 Swim & Croquet\, Pittsboro\, NC\, 27312\, United States
CATEGORIES:Board Meeting
END:VEVENT
BEGIN:VEVENT
DTSTART;TZID=America/New_York:20250123T140000
DTEND;TZID=America/New_York:20250123T160000
DTSTAMP:20260423T201954
CREATED:20250109T005252Z
LAST-MODIFIED:20250109T005252Z
UID:9220-1737640800-1737648000@www.weathersfieldsg.org
SUMMARY:WSG BOARD OF DIRECTORS' MEETING
DESCRIPTION:
URL:https://www.weathersfieldsg.org/event/wsg-board-of-directors-meeting-23/
LOCATION:The Gathering Place\, 26 Swim & Croquet\, Pittsboro\, NC\, 27312\, United States
CATEGORIES:Board Meeting
END:VEVENT
BEGIN:VEVENT
DTSTART;TZID=America/New_York:20241102T143000
DTEND;TZID=America/New_York:20241102T163000
DTSTAMP:20260423T201954
CREATED:20230928T141230Z
LAST-MODIFIED:20231224T214635Z
UID:8808-1730557800-1730565000@www.weathersfieldsg.org
SUMMARY:WSG ANNUAL MEETING
DESCRIPTION:
URL:https://www.weathersfieldsg.org/event/wsg-annual-meeting/
LOCATION:The Gathering Place\, 26 Swim & Croquet\, Pittsboro\, NC\, 27312\, United States
END:VEVENT
BEGIN:VEVENT
DTSTART;TZID=America/New_York:20241024T140000
DTEND;TZID=America/New_York:20241024T160000
DTSTAMP:20260423T201954
CREATED:20230928T141028Z
LAST-MODIFIED:20231224T214713Z
UID:8806-1729778400-1729785600@www.weathersfieldsg.org
SUMMARY:WSG BOARD OF DIRECTORS' MEETING
DESCRIPTION:
URL:https://www.weathersfieldsg.org/event/wsg-board-of-directors-meeting-21/
LOCATION:The Gathering Place\, 26 Swim & Croquet\, Pittsboro\, NC\, 27312\, United States
END:VEVENT
BEGIN:VEVENT
DTSTART;TZID=America/New_York:20240919T140000
DTEND;TZID=America/New_York:20240919T160000
DTSTAMP:20260423T201954
CREATED:20230928T140916Z
LAST-MODIFIED:20230928T143328Z
UID:8804-1726754400-1726761600@www.weathersfieldsg.org
SUMMARY:WSG BOARD OF DIRECTORS' MEETING
DESCRIPTION:
URL:https://www.weathersfieldsg.org/event/wsg-board-of-directors-meeting-20/
LOCATION:The Gathering Place\, 26 Swim & Croquet\, Pittsboro\, NC\, 27312\, United States
END:VEVENT
BEGIN:VEVENT
DTSTART;TZID=America/New_York:20240822T140000
DTEND;TZID=America/New_York:20240822T160000
DTSTAMP:20260423T201954
CREATED:20240719T195304Z
LAST-MODIFIED:20240719T195414Z
UID:9067-1724335200-1724342400@www.weathersfieldsg.org
SUMMARY:WSG Board of Directors' Meeting
DESCRIPTION:
URL:https://www.weathersfieldsg.org/event/wsg-board-of-directors-meeting-22/
LOCATION:The Gathering Place\, 26 Swim & Croquet\, Pittsboro\, NC\, 27312\, United States
CATEGORIES:Board Meeting
END:VEVENT
BEGIN:VEVENT
DTSTART;TZID=America/New_York:20240523T140000
DTEND;TZID=America/New_York:20240523T160000
DTSTAMP:20260423T201954
CREATED:20230928T135203Z
LAST-MODIFIED:20231224T214743Z
UID:8802-1716472800-1716480000@www.weathersfieldsg.org
SUMMARY:WSG BOARD OF DIRECTORS' MEETING
DESCRIPTION:
URL:https://www.weathersfieldsg.org/event/wsg-board-of-directors-meeting-19/
LOCATION:The Gathering Place\, 26 Swim & Croquet\, Pittsboro\, NC\, 27312\, United States
END:VEVENT
BEGIN:VEVENT
DTSTART;TZID=America/New_York:20240425T140000
DTEND;TZID=America/New_York:20240425T160000
DTSTAMP:20260423T201954
CREATED:20230928T135039Z
LAST-MODIFIED:20231224T214909Z
UID:8800-1714053600-1714060800@www.weathersfieldsg.org
SUMMARY:WSG BOARD OF DIRECTORS' MEETING
DESCRIPTION:
URL:https://www.weathersfieldsg.org/event/wsg-board-of-directors-meeting-18/
LOCATION:The Gathering Place\, 26 Swim & Croquet\, Pittsboro\, NC\, 27312\, United States
END:VEVENT
BEGIN:VEVENT
DTSTART;TZID=America/New_York:20240321T140000
DTEND;TZID=America/New_York:20240321T160000
DTSTAMP:20260423T201954
CREATED:20230928T134923Z
LAST-MODIFIED:20231224T214940Z
UID:8798-1711029600-1711036800@www.weathersfieldsg.org
SUMMARY:WSG BOARD OF DIRECTORS' MEETING
DESCRIPTION:
URL:https://www.weathersfieldsg.org/event/wsg-board-of-directors-meeting-17/
LOCATION:The Gathering Place\, 26 Swim & Croquet\, Pittsboro\, NC\, 27312\, United States
END:VEVENT
BEGIN:VEVENT
DTSTART;TZID=America/New_York:20240222T140000
DTEND;TZID=America/New_York:20240222T160000
DTSTAMP:20260423T201954
CREATED:20230928T134817Z
LAST-MODIFIED:20230928T134817Z
UID:8796-1708610400-1708617600@www.weathersfieldsg.org
SUMMARY:WSG BOARD OF DIRECTORS' MEETING
DESCRIPTION:
URL:https://www.weathersfieldsg.org/event/wsg-board-of-directors-meeting-16/
LOCATION:The Gathering Place\, 26 Swim & Croquet\, Pittsboro\, NC\, 27312\, United States
END:VEVENT
BEGIN:VEVENT
DTSTART;TZID=America/New_York:20240124T140000
DTEND;TZID=America/New_York:20240124T160000
DTSTAMP:20260423T201954
CREATED:20230928T134256Z
LAST-MODIFIED:20231224T215146Z
UID:8790-1706104800-1706112000@www.weathersfieldsg.org
SUMMARY:WSG BOARD OF DIRECTORS' MEETING
DESCRIPTION:
URL:https://www.weathersfieldsg.org/event/wsg-board-of-directors-meeting-15/
LOCATION:The Gathering Place\, 26 Swim & Croquet\, Pittsboro\, NC\, 27312\, United States
END:VEVENT
BEGIN:VEVENT
DTSTART;TZID=America/New_York:20231104T143000
DTEND;TZID=America/New_York:20231104T163000
DTSTAMP:20260423T201954
CREATED:20220830T124502Z
LAST-MODIFIED:20220830T124502Z
UID:8423-1699108200-1699115400@www.weathersfieldsg.org
SUMMARY:ANNUAL GENERAL MEETING
DESCRIPTION:
URL:https://www.weathersfieldsg.org/event/annual-general-meeting-2/
LOCATION:The Gathering Place\, 26 Swim & Croquet\, Pittsboro\, NC\, 27312\, United States
CATEGORIES:WSG Homeowners Meeting
ORGANIZER;CN="David Spencer":MAILTO:dgtspencer@gmail.com
END:VEVENT
BEGIN:VEVENT
DTSTART;TZID=America/New_York:20231026T140000
DTEND;TZID=America/New_York:20231026T160000
DTSTAMP:20260423T201954
CREATED:20220830T123814Z
LAST-MODIFIED:20220830T123814Z
UID:8419-1698328800-1698336000@www.weathersfieldsg.org
SUMMARY:WSG BOARD OF DIRECTORS' MEETING
DESCRIPTION:
URL:https://www.weathersfieldsg.org/event/wsg-board-of-directors-meeting-14/
LOCATION:The Gathering Place\, 26 Swim & Croquet\, Pittsboro\, NC\, 27312\, United States
CATEGORIES:Board Meeting
ORGANIZER;CN="David Spencer":MAILTO:dgtspencer@gmail.com
END:VEVENT
BEGIN:VEVENT
DTSTART;TZID=America/New_York:20230914T140000
DTEND;TZID=America/New_York:20230914T160000
DTSTAMP:20260423T201954
CREATED:20220830T123634Z
LAST-MODIFIED:20220830T123634Z
UID:8416-1694700000-1694707200@www.weathersfieldsg.org
SUMMARY:WSG BOARD OF DIRECTORS' MEETING
DESCRIPTION:
URL:https://www.weathersfieldsg.org/event/wsg-board-of-directors-meeting-13/
LOCATION:The Gathering Place\, 26 Swim & Croquet\, Pittsboro\, NC\, 27312\, United States
CATEGORIES:Board Meeting
ORGANIZER;CN="David Spencer":MAILTO:dgtspencer@gmail.com
END:VEVENT
BEGIN:VEVENT
DTSTART;TZID=America/New_York:20230525T140000
DTEND;TZID=America/New_York:20230525T160000
DTSTAMP:20260423T201954
CREATED:20220830T123457Z
LAST-MODIFIED:20220830T123457Z
UID:8414-1685023200-1685030400@www.weathersfieldsg.org
SUMMARY:WSG BOARD OF DIRECTORS' MEETING
DESCRIPTION:
URL:https://www.weathersfieldsg.org/event/wsg-board-of-directors-meeting-12/
LOCATION:The Gathering Place\, 26 Swim & Croquet\, Pittsboro\, NC\, 27312\, United States
CATEGORIES:Board Meeting
ORGANIZER;CN="David Spencer":MAILTO:dgtspencer@gmail.com
END:VEVENT
BEGIN:VEVENT
DTSTART;TZID=America/New_York:20230427T140000
DTEND;TZID=America/New_York:20230427T160000
DTSTAMP:20260423T201954
CREATED:20220830T123316Z
LAST-MODIFIED:20220830T123316Z
UID:8412-1682604000-1682611200@www.weathersfieldsg.org
SUMMARY:WSG BOARD OF DIRECTORS' MEETING
DESCRIPTION:
URL:https://www.weathersfieldsg.org/event/wsg-board-of-directors-meeting-11/
LOCATION:The Gathering Place\, 26 Swim & Croquet\, Pittsboro\, NC\, 27312\, United States
CATEGORIES:Board Meeting
ORGANIZER;CN="David Spencer":MAILTO:dgtspencer@gmail.com
END:VEVENT
BEGIN:VEVENT
DTSTART;TZID=America/New_York:20230323T140000
DTEND;TZID=America/New_York:20230323T160000
DTSTAMP:20260423T201954
CREATED:20220830T123118Z
LAST-MODIFIED:20220830T123118Z
UID:8406-1679580000-1679587200@www.weathersfieldsg.org
SUMMARY:WSG BOARD OF DIRECTORS' MEETING
DESCRIPTION:
URL:https://www.weathersfieldsg.org/event/wsg-board-of-directors-meeting-10/
LOCATION:The Gathering Place\, 26 Swim & Croquet\, Pittsboro\, NC\, 27312\, United States
CATEGORIES:Board Meeting
ORGANIZER;CN="David Spencer":MAILTO:dgtspencer@gmail.com
END:VEVENT
BEGIN:VEVENT
DTSTART;TZID=America/New_York:20230223T140000
DTEND;TZID=America/New_York:20230223T160000
DTSTAMP:20260423T201954
CREATED:20220830T122845Z
LAST-MODIFIED:20220830T122845Z
UID:8404-1677160800-1677168000@www.weathersfieldsg.org
SUMMARY:WSG BOARD OF DIRECTORS' MEETING
DESCRIPTION:
URL:https://www.weathersfieldsg.org/event/wsg-board-of-directors-meeting-9/
LOCATION:The Gathering Place\, 26 Swim & Croquet\, Pittsboro\, NC\, 27312\, United States
CATEGORIES:Board Meeting
ORGANIZER;CN="David Spencer":MAILTO:dgtspencer@gmail.com
END:VEVENT
BEGIN:VEVENT
DTSTART;TZID=America/New_York:20230125T140000
DTEND;TZID=America/New_York:20230125T160000
DTSTAMP:20260423T201954
CREATED:20220830T122622Z
LAST-MODIFIED:20231224T214520Z
UID:8400-1674655200-1674662400@www.weathersfieldsg.org
SUMMARY:WSG BOARD OF DIRECTORS' MEETING
DESCRIPTION:
URL:https://www.weathersfieldsg.org/event/wsg-board-of-directors-meeting-8/
LOCATION:The Gathering Place\, 26 Swim & Croquet\, Pittsboro\, NC\, 27312\, United States
CATEGORIES:Board Meeting
END:VEVENT
BEGIN:VEVENT
DTSTART;TZID=America/New_York:20221105T143000
DTEND;TZID=America/New_York:20221105T163000
DTSTAMP:20260423T201954
CREATED:20220830T124317Z
LAST-MODIFIED:20220830T124317Z
UID:8421-1667658600-1667665800@www.weathersfieldsg.org
SUMMARY:ANNUAL GENERAL MEETING
DESCRIPTION:
URL:https://www.weathersfieldsg.org/event/annual-general-meeting/
LOCATION:The Gathering Place\, 26 Swim & Croquet\, Pittsboro\, NC\, 27312\, United States
CATEGORIES:WSG Homeowners Meeting
ORGANIZER;CN="David Spencer":MAILTO:dgtspencer@gmail.com
END:VEVENT
BEGIN:VEVENT
DTSTART;TZID=America/New_York:20221027T140000
DTEND;TZID=America/New_York:20221027T160000
DTSTAMP:20260423T201954
CREATED:20220103T133415Z
LAST-MODIFIED:20220103T133415Z
UID:8173-1666879200-1666886400@www.weathersfieldsg.org
SUMMARY:WSG BOARD OF DIRECTORS' MEETING
DESCRIPTION:
URL:https://www.weathersfieldsg.org/event/wsg-board-of-directors-meeting-7/
LOCATION:The Gathering Place\, 26 Swim & Croquet\, Pittsboro\, NC\, 27312\, United States
CATEGORIES:Board Meeting
ORGANIZER;CN="David Spencer":MAILTO:dgtspencer@gmail.com
END:VEVENT
BEGIN:VEVENT
DTSTART;TZID=America/New_York:20220915T140000
DTEND;TZID=America/New_York:20220915T160000
DTSTAMP:20260423T201954
CREATED:20220103T132947Z
LAST-MODIFIED:20220103T132947Z
UID:8171-1663250400-1663257600@www.weathersfieldsg.org
SUMMARY:WSG BOARD OF DIRECTORS' MEETING
DESCRIPTION:
URL:https://www.weathersfieldsg.org/event/wsg-board-of-directors-meeting-6/
LOCATION:The Gathering Place\, 26 Swim & Croquet\, Pittsboro\, NC\, 27312\, United States
CATEGORIES:Board Meeting
ORGANIZER;CN="David Spencer":MAILTO:dgtspencer@gmail.com
END:VEVENT
END:VCALENDAR