BEGIN:VCALENDAR
VERSION:2.0
PRODID:-//Weathersfield Service Group - ECPv6.15.20//NONSGML v1.0//EN
CALSCALE:GREGORIAN
METHOD:PUBLISH
X-WR-CALNAME:Weathersfield Service Group
X-ORIGINAL-URL:https://www.weathersfieldsg.org
X-WR-CALDESC:Events for Weathersfield Service Group
REFRESH-INTERVAL;VALUE=DURATION:PT1H
X-Robots-Tag:noindex
X-PUBLISHED-TTL:PT1H
BEGIN:VTIMEZONE
TZID:America/New_York
BEGIN:DAYLIGHT
TZOFFSETFROM:-0500
TZOFFSETTO:-0400
TZNAME:EDT
DTSTART:20160313T070000
END:DAYLIGHT
BEGIN:STANDARD
TZOFFSETFROM:-0400
TZOFFSETTO:-0500
TZNAME:EST
DTSTART:20161106T060000
END:STANDARD
BEGIN:DAYLIGHT
TZOFFSETFROM:-0500
TZOFFSETTO:-0400
TZNAME:EDT
DTSTART:20170312T070000
END:DAYLIGHT
BEGIN:STANDARD
TZOFFSETFROM:-0400
TZOFFSETTO:-0500
TZNAME:EST
DTSTART:20171105T060000
END:STANDARD
BEGIN:DAYLIGHT
TZOFFSETFROM:-0500
TZOFFSETTO:-0400
TZNAME:EDT
DTSTART:20180311T070000
END:DAYLIGHT
BEGIN:STANDARD
TZOFFSETFROM:-0400
TZOFFSETTO:-0500
TZNAME:EST
DTSTART:20181104T060000
END:STANDARD
BEGIN:DAYLIGHT
TZOFFSETFROM:-0500
TZOFFSETTO:-0400
TZNAME:EDT
DTSTART:20190310T070000
END:DAYLIGHT
BEGIN:STANDARD
TZOFFSETFROM:-0400
TZOFFSETTO:-0500
TZNAME:EST
DTSTART:20191103T060000
END:STANDARD
END:VTIMEZONE
BEGIN:VTIMEZONE
TZID:America/New_York
BEGIN:DAYLIGHT
TZOFFSETFROM:-0500
TZOFFSETTO:-0400
TZNAME:EDT
DTSTART:20160313T070000
END:DAYLIGHT
BEGIN:STANDARD
TZOFFSETFROM:-0400
TZOFFSETTO:-0500
TZNAME:EST
DTSTART:20161106T060000
END:STANDARD
BEGIN:DAYLIGHT
TZOFFSETFROM:-0500
TZOFFSETTO:-0400
TZNAME:EDT
DTSTART:20170312T070000
END:DAYLIGHT
BEGIN:STANDARD
TZOFFSETFROM:-0400
TZOFFSETTO:-0500
TZNAME:EST
DTSTART:20171105T060000
END:STANDARD
BEGIN:DAYLIGHT
TZOFFSETFROM:-0500
TZOFFSETTO:-0400
TZNAME:EDT
DTSTART:20180311T070000
END:DAYLIGHT
BEGIN:STANDARD
TZOFFSETFROM:-0400
TZOFFSETTO:-0500
TZNAME:EST
DTSTART:20181104T060000
END:STANDARD
END:VTIMEZONE
BEGIN:VEVENT
DTSTART;TZID=America/New_York:20180918T140000
DTEND;TZID=America/New_York:20180918T160000
DTSTAMP:20260425T121758
CREATED:20171207T212810Z
LAST-MODIFIED:20180912T221511Z
UID:5623-1537279200-1537286400@www.weathersfieldsg.org
SUMMARY:September WSG Board Meeting
DESCRIPTION:Note different start time than usual.
URL:https://www.weathersfieldsg.org/event/september-wsg-board-meeting/
LOCATION:The Gathering Place\, 26 Swim & Croquet\, Pittsboro\, NC\, 27312\, United States
CATEGORIES:Board Meeting
END:VEVENT
BEGIN:VEVENT
DTSTART;VALUE=DATE:20180905
DTEND;VALUE=DATE:20180906
DTSTAMP:20260425T121758
CREATED:20180829T145941Z
LAST-MODIFIED:20180829T145941Z
UID:5948-1536105600-1536191999@www.weathersfieldsg.org
SUMMARY:Labor Day Make-up Trash Pick-up Day
DESCRIPTION:Trash pick-up will be Wednesday\, September 5\, not the normal Tuesday\, September 4.
URL:https://www.weathersfieldsg.org/event/labor-day-make-up-trash-pick-up-day/
LOCATION:NC
CATEGORIES:Services
END:VEVENT
BEGIN:VEVENT
DTSTART;TZID=America/New_York:20180727T140000
DTEND;TZID=America/New_York:20180727T160000
DTSTAMP:20260425T121758
CREATED:20180531T152634Z
LAST-MODIFIED:20180531T153421Z
UID:5872-1532700000-1532707200@www.weathersfieldsg.org
SUMMARY:July WSG Board Meeting
DESCRIPTION:New addition to calendar
URL:https://www.weathersfieldsg.org/event/july-board-meeting/
LOCATION:The Gathering Place\, 26 Swim & Croquet\, Pittsboro\, NC\, 27312\, United States
CATEGORIES:Board Meeting
END:VEVENT
BEGIN:VEVENT
DTSTART;TZID=America/New_York:20180622T140000
DTEND;TZID=America/New_York:20180622T160000
DTSTAMP:20260425T121758
CREATED:20180531T152531Z
LAST-MODIFIED:20180531T153446Z
UID:5870-1529676000-1529683200@www.weathersfieldsg.org
SUMMARY:June WSG Board Meeting
DESCRIPTION:New addition to calendar
URL:https://www.weathersfieldsg.org/event/june-board-meeting/
LOCATION:The Gathering Place\, 26 Swim & Croquet\, Pittsboro\, NC\, 27312\, United States
CATEGORIES:Board Meeting
END:VEVENT
BEGIN:VEVENT
DTSTART;TZID=America/New_York:20180525T140000
DTEND;TZID=America/New_York:20180525T160000
DTSTAMP:20260425T121758
CREATED:20171207T212712Z
LAST-MODIFIED:20180311T201137Z
UID:5621-1527256800-1527264000@www.weathersfieldsg.org
SUMMARY:May WSG Board Meeting
DESCRIPTION:
URL:https://www.weathersfieldsg.org/event/may-wsg-board-meeting/
LOCATION:The Gathering Place\, 26 Swim & Croquet\, Pittsboro\, NC\, 27312\, United States
CATEGORIES:Board Meeting
END:VEVENT
BEGIN:VEVENT
DTSTART;TZID=America/New_York:20180509T170000
DTEND;TZID=America/New_York:20180509T190000
DTSTAMP:20260425T121758
CREATED:20180313T135249Z
LAST-MODIFIED:20180402T113616Z
UID:5773-1525885200-1525892400@www.weathersfieldsg.org
SUMMARY:Spring Fling
DESCRIPTION:Note change in date to May 9.  In case of inclement weather the Spring Fling will be held at the Gathering Place.
URL:https://www.weathersfieldsg.org/event/spring-fling/
LOCATION:The Grove (at the end of Weathersfield road)
CATEGORIES:Community Events
END:VEVENT
BEGIN:VEVENT
DTSTART;TZID=America/New_York:20180427T140000
DTEND;TZID=America/New_York:20180427T160000
DTSTAMP:20260425T121758
CREATED:20171207T212600Z
LAST-MODIFIED:20180311T201158Z
UID:5619-1524837600-1524844800@www.weathersfieldsg.org
SUMMARY:April WSG Board Meeting
DESCRIPTION:
URL:https://www.weathersfieldsg.org/event/april-wsg-board-meeting/
LOCATION:The Gathering Place\, 26 Swim & Croquet\, Pittsboro\, NC\, 27312\, United States
CATEGORIES:Board Meeting
END:VEVENT
BEGIN:VEVENT
DTSTART;TZID=America/New_York:20180326T090000
DTEND;TZID=America/New_York:20180326T170000
DTSTAMP:20260425T121758
CREATED:20180311T200752Z
LAST-MODIFIED:20180311T200752Z
UID:5771-1522054800-1522083600@www.weathersfieldsg.org
SUMMARY:Pressure Washing and Roof Blowing to Begin
DESCRIPTION:Pressure washing of building siding and sidewalks is scheduled to begin March 26.   Roof blowing of leaves and other debris will be done at the same time.  The work will take about two to three weeks to complete\, depending on weather.
URL:https://www.weathersfieldsg.org/event/pressure-washing-and-roof-blowing-to-begin/
LOCATION:NC
CATEGORIES:Services
END:VEVENT
BEGIN:VEVENT
DTSTART;TZID=America/New_York:20180323T140000
DTEND;TZID=America/New_York:20180323T160000
DTSTAMP:20260425T121758
CREATED:20171207T212450Z
LAST-MODIFIED:20180311T201217Z
UID:5617-1521813600-1521820800@www.weathersfieldsg.org
SUMMARY:March WSG Board Meeting
DESCRIPTION:
URL:https://www.weathersfieldsg.org/event/march-wsg-board-meeting/
LOCATION:The Gathering Place\, 26 Swim & Croquet\, Pittsboro\, NC\, 27312\, United States
CATEGORIES:Board Meeting
END:VEVENT
BEGIN:VEVENT
DTSTART;TZID=America/New_York:20180314T170000
DTEND;TZID=America/New_York:20180314T190000
DTSTAMP:20260425T121758
CREATED:20180306T225651Z
LAST-MODIFIED:20180311T201234Z
UID:5748-1521046800-1521054000@www.weathersfieldsg.org
SUMMARY:Grove Meet-Ups Start
DESCRIPTION:The Grove is a natural setting in the circle at the end of Weathersfield. It is a place where one can sit and visit with friends or simply enjoy moments of quiet reflection. It has become a tradition for neighbors to gather on Wednesday to visit with one another. Bring your favorite beverage and a light snack and enjoy this time with friends (weather permitting) beginning March 14.
URL:https://www.weathersfieldsg.org/event/grove-meet-ups-start/
LOCATION:The Grove (at the end of Weathersfield road)
CATEGORIES:Community Events
END:VEVENT
BEGIN:VEVENT
DTSTART;TZID=America/New_York:20180223T140000
DTEND;TZID=America/New_York:20180223T160000
DTSTAMP:20260425T121758
CREATED:20171207T212354Z
LAST-MODIFIED:20180311T201257Z
UID:5615-1519394400-1519401600@www.weathersfieldsg.org
SUMMARY:February WSG Board Meeting
DESCRIPTION:
URL:https://www.weathersfieldsg.org/event/february-wsg-board-meeting/
LOCATION:The Gathering Place\, 26 Swim & Croquet\, Pittsboro\, NC\, 27312\, United States
CATEGORIES:Board Meeting
END:VEVENT
BEGIN:VEVENT
DTSTART;TZID=America/New_York:20180126T140000
DTEND;TZID=America/New_York:20180126T160000
DTSTAMP:20260425T121758
CREATED:20171207T212208Z
LAST-MODIFIED:20181026T150959Z
UID:5613-1516975200-1516982400@www.weathersfieldsg.org
SUMMARY:January WSG Board Meeting
DESCRIPTION:
URL:https://www.weathersfieldsg.org/event/january-wsg-board-meeting/
LOCATION:The Gathering Place\, 26 Swim & Croquet\, Pittsboro\, NC\, 27312\, United States
CATEGORIES:Board Meeting
END:VEVENT
BEGIN:VEVENT
DTSTART;VALUE=DATE:20180118
DTEND;VALUE=DATE:20180119
DTSTAMP:20260425T121758
CREATED:20171220T165428Z
LAST-MODIFIED:20171220T204854Z
UID:5648-1516233600-1516319999@www.weathersfieldsg.org
SUMMARY:Christmas Tree Collection
DESCRIPTION:Ruppert will pick up Christmas trees on Thursday\, January 4 and January 18.  Please leave your old tree where you normally leave recyclables. 
URL:https://www.weathersfieldsg.org/event/christmas-tree-collection-2/
LOCATION:NC
CATEGORIES:Services
END:VEVENT
BEGIN:VEVENT
DTSTART;VALUE=DATE:20180104
DTEND;VALUE=DATE:20180105
DTSTAMP:20260425T121758
CREATED:20171220T165336Z
LAST-MODIFIED:20171220T165336Z
UID:5646-1515024000-1515110399@www.weathersfieldsg.org
SUMMARY:Christmas Tree Collection
DESCRIPTION:Ruppert will pick up Christmas trees on Thursday\, January 4 and January 18.  Please leave your old tree where you normally leave recyclables. 
URL:https://www.weathersfieldsg.org/event/christmas-tree-collection/
LOCATION:NC
CATEGORIES:Services
END:VEVENT
BEGIN:VEVENT
DTSTART;VALUE=DATE:20180103
DTEND;VALUE=DATE:20180104
DTSTAMP:20260425T121758
CREATED:20171130T232640Z
LAST-MODIFIED:20180311T201337Z
UID:5595-1514937600-1515023999@www.weathersfieldsg.org
SUMMARY:New Year's Makeup Trash Pickup Day
DESCRIPTION:Trash will not be picked up Tuesday\, January 2.  Makeup day is Wednesday\, January 3.
URL:https://www.weathersfieldsg.org/event/new-years-makeup-trash-pickup-day/
LOCATION:NC
CATEGORIES:Services
END:VEVENT
BEGIN:VEVENT
DTSTART;VALUE=DATE:20171227
DTEND;VALUE=DATE:20171228
DTSTAMP:20260425T121758
CREATED:20171130T232540Z
LAST-MODIFIED:20181026T151030Z
UID:5593-1514332800-1514419199@www.weathersfieldsg.org
SUMMARY:Christmas Makeup Trash Pickup Day
DESCRIPTION:Trash will not be picked up Tuesday\, December 26.  Makeup day is Wednesday\, December 27.
URL:https://www.weathersfieldsg.org/event/makeup-trash-pickup-day/
LOCATION:NC
CATEGORIES:Services
END:VEVENT
BEGIN:VEVENT
DTSTART;TZID=America/New_York:20171222T140000
DTEND;TZID=America/New_York:20171222T160000
DTSTAMP:20260425T121758
CREATED:20171101T193500Z
LAST-MODIFIED:20181026T151055Z
UID:5549-1513951200-1513958400@www.weathersfieldsg.org
SUMMARY:December WSG Board Meeting
DESCRIPTION:
URL:https://www.weathersfieldsg.org/event/december-wsg-board-meetin/
LOCATION:The Gathering Place\, 26 Swim & Croquet\, Pittsboro\, NC\, 27312\, United States
CATEGORIES:Board Meeting
END:VEVENT
BEGIN:VEVENT
DTSTART;TZID=America/New_York:20171202T173000
DTEND;TZID=America/New_York:20171202T173000
DTSTAMP:20260425T121758
CREATED:20171016T191711Z
LAST-MODIFIED:20181026T151122Z
UID:5529-1512235800-1512235800@www.weathersfieldsg.org
SUMMARY:Weathersfield Holiday Party
DESCRIPTION:
URL:https://www.weathersfieldsg.org/event/weathersfield-holiday-party/
LOCATION:The Gathering Place\, 26 Swim & Croquet\, Pittsboro\, NC\, 27312\, United States
CATEGORIES:Community Events
END:VEVENT
BEGIN:VEVENT
DTSTART;TZID=America/New_York:20171106T210000
DTEND;TZID=America/New_York:20171106T213000
DTSTAMP:20260425T121758
CREATED:20171106T160451Z
LAST-MODIFIED:20181026T151148Z
UID:5560-1510002000-1510003800@www.weathersfieldsg.org
SUMMARY:November Board Meeting
DESCRIPTION:The WSG Board of Directors will be having a very short organizational meeting after the annual meeting on Monday\, November 6\, 2017.  This meeting will most likely start at 9PM.  It will be held at the Gathering Place.  This meeting is open to the public.
URL:https://www.weathersfieldsg.org/event/november-board-meeting/
LOCATION:The Gathering Place\, 26 Swim & Croquet\, Pittsboro\, NC\, 27312\, United States
CATEGORIES:Board Meeting
END:VEVENT
BEGIN:VEVENT
DTSTART;TZID=America/New_York:20171106T180000
DTEND;TZID=America/New_York:20171106T210000
DTSTAMP:20260425T121758
CREATED:20170907T184303Z
LAST-MODIFIED:20181026T151209Z
UID:5333-1509991200-1510002000@www.weathersfieldsg.org
SUMMARY:WSG Annual Homeowners' Meeting
DESCRIPTION:The 2017 Annual Homeowners Meeting will be Monday\, November 6\, 2017\, from 6 PM to 9 PM at The Gathering Place.
URL:https://www.weathersfieldsg.org/event/wsg-annual-homeowners-meeting/
LOCATION:The Gathering Place\, 26 Swim & Croquet\, Pittsboro\, NC\, 27312\, United States
CATEGORIES:WSG Homeowners Meeting
END:VEVENT
BEGIN:VEVENT
DTSTART;TZID=America/New_York:20171027T140000
DTEND;TZID=America/New_York:20171027T160000
DTSTAMP:20260425T121758
CREATED:20171019T154953Z
LAST-MODIFIED:20181026T151233Z
UID:5534-1509112800-1509120000@www.weathersfieldsg.org
SUMMARY:October Board Meeting
DESCRIPTION:
URL:https://www.weathersfieldsg.org/event/october-board-meeting/
LOCATION:The Gathering Place\, 26 Swim & Croquet\, Pittsboro\, NC\, 27312\, United States
CATEGORIES:Board Meeting
END:VEVENT
BEGIN:VEVENT
DTSTART;TZID=America/New_York:20170929T140000
DTEND;TZID=America/New_York:20170929T160000
DTSTAMP:20260425T121758
CREATED:20170609T181840Z
LAST-MODIFIED:20170715T201520Z
UID:5044-1506693600-1506700800@www.weathersfieldsg.org
SUMMARY:September Board Meeting
DESCRIPTION:The next WSG Board of Directors meeting is Friday\, September 29\, 2017 at 2pm at The Gathering Place. This meeting & all meetings of WSG are open to the public.
URL:https://www.weathersfieldsg.org/event/september-board-meeting/
LOCATION:The Gathering Place\, 26 Swim & Croquet\, Pittsboro\, NC\, 27312\, United States
CATEGORIES:Board Meeting
END:VEVENT
BEGIN:VEVENT
DTSTART;VALUE=DATE:20170927
DTEND;VALUE=DATE:20170929
DTSTAMP:20260425T121758
CREATED:20170914T195658Z
LAST-MODIFIED:20181026T151320Z
UID:5480-1506470400-1506643199@www.weathersfieldsg.org
SUMMARY:Termite Inspection
DESCRIPTION:Pest & Termite  Consultants will be conducting annual termite inspections on Wednesday\, September 27 and Thursday\, September 28 between the hours of 8 am and 5 pm.
URL:https://www.weathersfieldsg.org/event/termite-inspection/
LOCATION:NC
CATEGORIES:Services
END:VEVENT
BEGIN:VEVENT
DTSTART;TZID=America/New_York:20170919T120000
DTEND;TZID=America/New_York:20170919T170000
DTSTAMP:20260425T121758
CREATED:20170919T170042Z
LAST-MODIFIED:20181026T151320Z
UID:5494-1505822400-1505840400@www.weathersfieldsg.org
SUMMARY:Asphalt Repairs -- Final Day
DESCRIPTION:Large racks in the asphalt will be sealed today.
URL:https://www.weathersfieldsg.org/event/asphalt-repairs-final-day/
LOCATION:NC
CATEGORIES:Services
END:VEVENT
BEGIN:VEVENT
DTSTART;TZID=America/New_York:20170917T150000
DTEND;TZID=America/New_York:20170917T173000
DTSTAMP:20260425T121758
CREATED:20170806T120012Z
LAST-MODIFIED:20181026T151343Z
UID:5258-1505660400-1505669400@www.weathersfieldsg.org
SUMMARY:2017-2018 Fearrington Concert Series Begins
DESCRIPTION:This series offers chamber music lovers of every stripe the opportunity to enjoy world-class musicians performing a varied repertory consisting of five concerts plus an additional one by a select group of advanced students from UNC School of the Arts.  Subscription cost is $75.00 per person.  If additional tickets are available for individual concerts\, they can be purchased at the door for $20.00 per person.  Those seeking additional information may contact Barbara Hummel-Rossi at barbara.hummel.rossi@nyu.edu.
URL:https://www.weathersfieldsg.org/event/5258/
LOCATION:The Gathering Place\, 26 Swim & Croquet\, Pittsboro\, NC\, 27312\, United States
CATEGORIES:Community Events
END:VEVENT
BEGIN:VEVENT
DTSTART;VALUE=DATE:20170914
DTEND;VALUE=DATE:20170916
DTSTAMP:20260425T121758
CREATED:20170907T184609Z
LAST-MODIFIED:20181026T151321Z
UID:5337-1505347200-1505519999@www.weathersfieldsg.org
SUMMARY:Asphalt Repairs
DESCRIPTION:Asphalt Enterprises will be making repairs to parking lots around Weathersfield on Thursday and Friday\, September 14 and 15\, weather permitting.
URL:https://www.weathersfieldsg.org/event/asphalt-repairs/
LOCATION:NC
CATEGORIES:Services
END:VEVENT
BEGIN:VEVENT
DTSTART;TZID=America/New_York:20170911T140000
DTEND;TZID=America/New_York:20170911T160000
DTSTAMP:20260425T121758
CREATED:20170830T002322Z
LAST-MODIFIED:20181026T151406Z
UID:5287-1505138400-1505145600@www.weathersfieldsg.org
SUMMARY:Special Board Meeting
DESCRIPTION:A special meeting of the Weathersfield Service Group Board will be held on Monday\, September 11 at 2:00 pm in The Gathering Place.  All meetings of the Board are open to residents in Weathersfield.\n\nThe next regularly scheduled meeting will be on Friday\, September 29\, at 2:00 pm in The Gathering Place.
URL:https://www.weathersfieldsg.org/event/board-meeting/
LOCATION:The Gathering Place\, 26 Swim & Croquet\, Pittsboro\, NC\, 27312\, United States
CATEGORIES:Board Meeting
END:VEVENT
BEGIN:VEVENT
DTSTART;TZID=America/New_York:20170526T140000
DTEND;TZID=America/New_York:20170526T160000
DTSTAMP:20260425T121758
CREATED:20170521T231431Z
LAST-MODIFIED:20170715T201549Z
UID:4995-1495807200-1495814400@www.weathersfieldsg.org
SUMMARY:May Board Meeting
DESCRIPTION:The next WSG Board of Directors meeting is Friday\, May 26\, 2017 at 2pm at The Gathering Place. This meeting and all meetings of WSG are open to the public.
URL:https://www.weathersfieldsg.org/event/may-board-meeting/
LOCATION:The Gathering Place\, 26 Swim & Croquet\, Pittsboro\, NC\, 27312\, United States
CATEGORIES:Board Meeting
END:VEVENT
END:VCALENDAR