BEGIN:VCALENDAR
VERSION:2.0
PRODID:-//Weathersfield Service Group - ECPv6.15.20//NONSGML v1.0//EN
CALSCALE:GREGORIAN
METHOD:PUBLISH
X-ORIGINAL-URL:https://www.weathersfieldsg.org
X-WR-CALDESC:Events for Weathersfield Service Group
REFRESH-INTERVAL;VALUE=DURATION:PT1H
X-Robots-Tag:noindex
X-PUBLISHED-TTL:PT1H
BEGIN:VTIMEZONE
TZID:America/New_York
BEGIN:DAYLIGHT
TZOFFSETFROM:-0500
TZOFFSETTO:-0400
TZNAME:EDT
DTSTART:20160313T070000
END:DAYLIGHT
BEGIN:STANDARD
TZOFFSETFROM:-0400
TZOFFSETTO:-0500
TZNAME:EST
DTSTART:20161106T060000
END:STANDARD
BEGIN:DAYLIGHT
TZOFFSETFROM:-0500
TZOFFSETTO:-0400
TZNAME:EDT
DTSTART:20170312T070000
END:DAYLIGHT
BEGIN:STANDARD
TZOFFSETFROM:-0400
TZOFFSETTO:-0500
TZNAME:EST
DTSTART:20171105T060000
END:STANDARD
BEGIN:DAYLIGHT
TZOFFSETFROM:-0500
TZOFFSETTO:-0400
TZNAME:EDT
DTSTART:20180311T070000
END:DAYLIGHT
BEGIN:STANDARD
TZOFFSETFROM:-0400
TZOFFSETTO:-0500
TZNAME:EST
DTSTART:20181104T060000
END:STANDARD
END:VTIMEZONE
BEGIN:VTIMEZONE
TZID:America/New_York
BEGIN:DAYLIGHT
TZOFFSETFROM:-0500
TZOFFSETTO:-0400
TZNAME:EDT
DTSTART:20160313T070000
END:DAYLIGHT
BEGIN:STANDARD
TZOFFSETFROM:-0400
TZOFFSETTO:-0500
TZNAME:EST
DTSTART:20161106T060000
END:STANDARD
BEGIN:DAYLIGHT
TZOFFSETFROM:-0500
TZOFFSETTO:-0400
TZNAME:EDT
DTSTART:20170312T070000
END:DAYLIGHT
BEGIN:STANDARD
TZOFFSETFROM:-0400
TZOFFSETTO:-0500
TZNAME:EST
DTSTART:20171105T060000
END:STANDARD
BEGIN:DAYLIGHT
TZOFFSETFROM:-0500
TZOFFSETTO:-0400
TZNAME:EDT
DTSTART:20180311T070000
END:DAYLIGHT
BEGIN:STANDARD
TZOFFSETFROM:-0400
TZOFFSETTO:-0500
TZNAME:EST
DTSTART:20181104T060000
END:STANDARD
END:VTIMEZONE
BEGIN:VEVENT
DTSTART;TZID=America/New_York:20170917T150000
DTEND;TZID=America/New_York:20170917T173000
DTSTAMP:20260424T031445
CREATED:20170806T120012Z
LAST-MODIFIED:20181026T151343Z
UID:5258-1505660400-1505669400@www.weathersfieldsg.org
SUMMARY:2017-2018 Fearrington Concert Series Begins
DESCRIPTION:This series offers chamber music lovers of every stripe the opportunity to enjoy world-class musicians performing a varied repertory consisting of five concerts plus an additional one by a select group of advanced students from UNC School of the Arts.  Subscription cost is $75.00 per person.  If additional tickets are available for individual concerts\, they can be purchased at the door for $20.00 per person.  Those seeking additional information may contact Barbara Hummel-Rossi at barbara.hummel.rossi@nyu.edu.
URL:https://www.weathersfieldsg.org/event/5258/
LOCATION:The Gathering Place\, 26 Swim & Croquet\, Pittsboro\, NC\, 27312\, United States
CATEGORIES:Community Events
END:VEVENT
BEGIN:VEVENT
DTSTART;VALUE=DATE:20170914
DTEND;VALUE=DATE:20170916
DTSTAMP:20260424T031445
CREATED:20170907T184609Z
LAST-MODIFIED:20181026T151321Z
UID:5337-1505347200-1505519999@www.weathersfieldsg.org
SUMMARY:Asphalt Repairs
DESCRIPTION:Asphalt Enterprises will be making repairs to parking lots around Weathersfield on Thursday and Friday\, September 14 and 15\, weather permitting.
URL:https://www.weathersfieldsg.org/event/asphalt-repairs/
LOCATION:NC
CATEGORIES:Services
END:VEVENT
BEGIN:VEVENT
DTSTART;TZID=America/New_York:20170911T140000
DTEND;TZID=America/New_York:20170911T160000
DTSTAMP:20260424T031445
CREATED:20170830T002322Z
LAST-MODIFIED:20181026T151406Z
UID:5287-1505138400-1505145600@www.weathersfieldsg.org
SUMMARY:Special Board Meeting
DESCRIPTION:A special meeting of the Weathersfield Service Group Board will be held on Monday\, September 11 at 2:00 pm in The Gathering Place.  All meetings of the Board are open to residents in Weathersfield.\n\nThe next regularly scheduled meeting will be on Friday\, September 29\, at 2:00 pm in The Gathering Place.
URL:https://www.weathersfieldsg.org/event/board-meeting/
LOCATION:The Gathering Place\, 26 Swim & Croquet\, Pittsboro\, NC\, 27312\, United States
CATEGORIES:Board Meeting
END:VEVENT
BEGIN:VEVENT
DTSTART;TZID=America/New_York:20170526T140000
DTEND;TZID=America/New_York:20170526T160000
DTSTAMP:20260424T031445
CREATED:20170521T231431Z
LAST-MODIFIED:20170715T201549Z
UID:4995-1495807200-1495814400@www.weathersfieldsg.org
SUMMARY:May Board Meeting
DESCRIPTION:The next WSG Board of Directors meeting is Friday\, May 26\, 2017 at 2pm at The Gathering Place. This meeting and all meetings of WSG are open to the public.
URL:https://www.weathersfieldsg.org/event/may-board-meeting/
LOCATION:The Gathering Place\, 26 Swim & Croquet\, Pittsboro\, NC\, 27312\, United States
CATEGORIES:Board Meeting
END:VEVENT
END:VCALENDAR