BEGIN:VCALENDAR
VERSION:2.0
PRODID:-//Weathersfield Service Group - ECPv6.15.20//NONSGML v1.0//EN
CALSCALE:GREGORIAN
METHOD:PUBLISH
X-ORIGINAL-URL:https://www.weathersfieldsg.org
X-WR-CALDESC:Events for Weathersfield Service Group
REFRESH-INTERVAL;VALUE=DURATION:PT1H
X-Robots-Tag:noindex
X-PUBLISHED-TTL:PT1H
BEGIN:VTIMEZONE
TZID:America/New_York
BEGIN:DAYLIGHT
TZOFFSETFROM:-0500
TZOFFSETTO:-0400
TZNAME:EDT
DTSTART:20180311T070000
END:DAYLIGHT
BEGIN:STANDARD
TZOFFSETFROM:-0400
TZOFFSETTO:-0500
TZNAME:EST
DTSTART:20181104T060000
END:STANDARD
BEGIN:DAYLIGHT
TZOFFSETFROM:-0500
TZOFFSETTO:-0400
TZNAME:EDT
DTSTART:20190310T070000
END:DAYLIGHT
BEGIN:STANDARD
TZOFFSETFROM:-0400
TZOFFSETTO:-0500
TZNAME:EST
DTSTART:20191103T060000
END:STANDARD
BEGIN:DAYLIGHT
TZOFFSETFROM:-0500
TZOFFSETTO:-0400
TZNAME:EDT
DTSTART:20200308T070000
END:DAYLIGHT
BEGIN:STANDARD
TZOFFSETFROM:-0400
TZOFFSETTO:-0500
TZNAME:EST
DTSTART:20201101T060000
END:STANDARD
BEGIN:DAYLIGHT
TZOFFSETFROM:-0500
TZOFFSETTO:-0400
TZNAME:EDT
DTSTART:20210314T070000
END:DAYLIGHT
BEGIN:STANDARD
TZOFFSETFROM:-0400
TZOFFSETTO:-0500
TZNAME:EST
DTSTART:20211107T060000
END:STANDARD
BEGIN:DAYLIGHT
TZOFFSETFROM:-0500
TZOFFSETTO:-0400
TZNAME:EDT
DTSTART:20220313T070000
END:DAYLIGHT
BEGIN:STANDARD
TZOFFSETFROM:-0400
TZOFFSETTO:-0500
TZNAME:EST
DTSTART:20221106T060000
END:STANDARD
END:VTIMEZONE
BEGIN:VEVENT
DTSTART;TZID=America/New_York:20211028T140000
DTEND;TZID=America/New_York:20211028T160000
DTSTAMP:20260423T173012
CREATED:20210704T011348Z
LAST-MODIFIED:20211007T163418Z
UID:7862-1635429600-1635436800@www.weathersfieldsg.org
SUMMARY:Board Meeting
DESCRIPTION:The October 2021 meeting will be held on Friday\, October 29 at 2 p.m.  Because of the COVID-19 restrictions\, the meeting will be held via teleconference.  If any homeowners would like to participate in the “Open Comments” portion of the meeting\, they should contact Millhouse Properties at hoa@millhouseproperties.com or Michelle Johnson\, Office Manager\, at 919-448-5150 to get the link for this meeting.
URL:https://www.weathersfieldsg.org/event/board-meeting-3/
LOCATION:Telconference
CATEGORIES:Board Meeting
END:VEVENT
BEGIN:VEVENT
DTSTART;VALUE=DATE:20211025
DTEND;VALUE=DATE:20211026
DTSTAMP:20260423T173012
CREATED:20211006T145913Z
LAST-MODIFIED:20211006T145913Z
UID:7979-1635120000-1635206399@www.weathersfieldsg.org
SUMMARY:Aeration and Overseeding
DESCRIPTION:Ruppert Landscape will begin aeration and overseeding of all grassy areas on both Common Areas and private property (up to the HVAC) on Monday\, October 25\, weather permitting.
URL:https://www.weathersfieldsg.org/event/aeration-and-overseeding/
LOCATION:Weathersfield outside venue\, Weathersfield\, Pittsboro\, NC\, 27312\, United States
END:VEVENT
BEGIN:VEVENT
DTSTART;TZID=America/New_York:20211006T080000
DTEND;TZID=America/New_York:20211006T163000
DTSTAMP:20260423T173012
CREATED:20211006T144814Z
LAST-MODIFIED:20211008T003312Z
UID:7972-1633507200-1633537800@www.weathersfieldsg.org
SUMMARY:Termite Inspections
DESCRIPTION:Pest & Termite Consultants will be conducting annual termite inspections on Wednesday\, October 13\, 2021\, from 8:00 a.m. until 4:30 p.m. The inspector will need access to crawlspaces and the interior of garages.
URL:https://www.weathersfieldsg.org/event/termite-inspections/
LOCATION:Weathersfield Homes and Garages
END:VEVENT
BEGIN:VEVENT
DTSTART;TZID=America/New_York:20210916T140000
DTEND;TZID=America/New_York:20210916T160000
DTSTAMP:20260423T173012
CREATED:20210704T011157Z
LAST-MODIFIED:20210704T011157Z
UID:7860-1631800800-1631808000@www.weathersfieldsg.org
SUMMARY:Board Meeting
DESCRIPTION:
URL:https://www.weathersfieldsg.org/event/board-meeting-2/
LOCATION:The Gathering Place\, 26 Swim & Croquet\, Pittsboro\, NC\, 27312\, United States
CATEGORIES:Board Meeting
END:VEVENT
BEGIN:VEVENT
DTSTART;TZID=America/New_York:20210325T140000
DTEND;TZID=America/New_York:20210325T160000
DTSTAMP:20260423T173012
CREATED:20210126T235730Z
LAST-MODIFIED:20210126T235730Z
UID:7617-1616680800-1616688000@www.weathersfieldsg.org
SUMMARY:WSG Board Meeting\, March 25\, 2021 at 2 p.m. via Teleconference
DESCRIPTION:The March 2021 meeting will be held on Thursday\, March 25 at 2 p.m.  Because of the COVID-19 restrictions\, the meeting will be held via teleconference.  If any homeowners would like to participate in the “Open Comments” portion of the meeting\, they should contact Millhouse Properties at hoa@millhouseproperties.com or Michelle Johnson\, Office Manager\, at 919-448-5150 to get the link for this meeting.  Please note that the Board will now be holding its regularly scheduled monthly meetings on the fourth Thursday of the month.
URL:https://www.weathersfieldsg.org/event/wsg-board-meeting-march-25-2021-at-2-p-m-via-teleconference/
LOCATION:NC
CATEGORIES:Board Meeting
END:VEVENT
BEGIN:VEVENT
DTSTART;TZID=America/New_York:20210225T140000
DTEND;TZID=America/New_York:20210225T160000
DTSTAMP:20260423T173012
CREATED:20210126T234558Z
LAST-MODIFIED:20210126T234814Z
UID:7615-1614261600-1614268800@www.weathersfieldsg.org
SUMMARY:WSG Board Meeting\, February 25\, 2021 at 2 p.m. via Teleconference
DESCRIPTION:The February 2021 meeting will be held on Thursday\, February 25 at 2 p.m.  Because of the COVID-19 restrictions\, the meeting will be held via teleconference.  If any homeowners would like to participate in the “Open Comments” portion of the meeting\, they should contact Millhouse Properties at hoa@millhouseproperties.com or Michelle Johnson\, Office Manager\, at 919-448-5150 to get the link for this meeting.  Please note that the Board will now be holding its regularly scheduled monthly meetings on the fourth Thursday of the month.
URL:https://www.weathersfieldsg.org/event/wsg-board-meeting-february-25-2021-at-2-p-m-via-teleconference/
LOCATION:NC
CATEGORIES:Board Meeting
END:VEVENT
BEGIN:VEVENT
DTSTART;TZID=America/New_York:20210128T140000
DTEND;TZID=America/New_York:20210128T160000
DTSTAMP:20260423T173012
CREATED:20201206T191844Z
LAST-MODIFIED:20201206T191844Z
UID:7547-1611842400-1611849600@www.weathersfieldsg.org
SUMMARY:WSG Board Meeting\, January 28\, 2021 at 2 p.m. via Teleconference
DESCRIPTION:The January 2021 meeting will be held on Thursday\, January 28 at 2 p.m.  Because of the COVID-19 restrictions\, the meeting will be held via teleconference and regrettably will not be open to Weathersfield homeowners. \nPlease note that the Board will now be holding its regularly scheduled monthly meetings on the fourth Thursday of the month.
URL:https://www.weathersfieldsg.org/event/wsg-board-meeting-january-28-2021-at-2-p-m-via-teleconference/
LOCATION:NC
CATEGORIES:Board Meeting
END:VEVENT
BEGIN:VEVENT
DTSTART;TZID=America/New_York:20201102T140000
DTEND;TZID=America/New_York:20201102T160000
DTSTAMP:20260423T173012
CREATED:20201026T144832Z
LAST-MODIFIED:20201026T144832Z
UID:7481-1604325600-1604332800@www.weathersfieldsg.org
SUMMARY:November 2020 Board Meeting
DESCRIPTION:The November 2020 meeting will be held on Monday\, November 2 at 2:00 PM.  Because of the COVID-19 restrictions\, the meeting will be held via teleconference and consequently not open to Weathersfield homeowners.
URL:https://www.weathersfieldsg.org/event/november-2020-board-meeting/
LOCATION:NC
CATEGORIES:Board Meeting
END:VEVENT
BEGIN:VEVENT
DTSTART;TZID=America/New_York:20201031T080000
DTEND;TZID=America/New_York:20201031T170000
DTSTAMP:20260423T173012
CREATED:20201012T213252Z
LAST-MODIFIED:20201012T213252Z
UID:7456-1604131200-1604163600@www.weathersfieldsg.org
SUMMARY:Last Day to Submit WSG Board Member Ballot
DESCRIPTION:Homeowners of Weathersfield Service Group VI\,  􏰜􏰗􏰛􏰜􏰔􏰑will elect two individuals to serve on the Board of Directors of the Association for a term beginning in 2020. \nALL BALLOTS MUST BE RETURNED NO LATER THAN 5:00 P.M. ON OCTOBER 31\, 2020\, and the presence of a quorum will be determined from the ballots received as of that date and time. \nPlease return your ballots using the enclosed self-addressed envelope via regular mail to: \nWeathersfield Service Group\, VI. Inc. c/o Mill House Properties LLC\n1720 E. Franklin Street\nChapel Hill\, NC 27514 \nOr deposit the sealed envelope with your ballot enclosed in the WSG mail kiosk.
URL:https://www.weathersfieldsg.org/event/last-day-to-submit-wsg-board-member-ballot/
LOCATION:NC
CATEGORIES:WSG Homeowners Meeting
END:VEVENT
BEGIN:VEVENT
DTSTART;TZID=America/New_York:20201023T140000
DTEND;TZID=America/New_York:20201023T160000
DTSTAMP:20260423T173012
CREATED:20201012T212324Z
LAST-MODIFIED:20201012T212324Z
UID:7450-1603461600-1603468800@www.weathersfieldsg.org
SUMMARY:October 2020 WSG Board Meeting
DESCRIPTION:The October 2020 meeting will be held on Friday\, October 23 at 2:00 PM.  Because of the COVID-19 restrictions\, the meeting will be held via teleconference and consequently not open to Weathersfield homeowners.
URL:https://www.weathersfieldsg.org/event/october-2020-wsg-board-meeting/
LOCATION:NC
CATEGORIES:Board Meeting
END:VEVENT
BEGIN:VEVENT
DTSTART;TZID=America/New_York:20201006T083000
DTEND;TZID=America/New_York:20201006T163000
DTSTAMP:20260423T173012
CREATED:20200921T010719Z
LAST-MODIFIED:20200921T011404Z
UID:7376-1601973000-1602001800@www.weathersfieldsg.org
SUMMARY:2020 Termite Inspection
DESCRIPTION:Pest & Termite Consultants will be conducting annual termite inspections on Tuesday\, October 6\, 2020\, from 8:30 a.m. until 4:30 p.m.  The inspector will need access to crawlspaces and interior of garages.  Read all about the process\, including what Pest & Termite Consultants will do\, what you need to do\, and where you can go for more information: Termite Inspection Notification Letter
URL:https://www.weathersfieldsg.org/event/2020-termite-inspection/
LOCATION:NC
CATEGORIES:Services
END:VEVENT
BEGIN:VEVENT
DTSTART;TZID=America/New_York:20200918T100000
DTEND;TZID=America/New_York:20200918T120000
DTSTAMP:20260423T173012
CREATED:20190813T233443Z
LAST-MODIFIED:20200907T195700Z
UID:6777-1600423200-1600430400@www.weathersfieldsg.org
SUMMARY:September 2020 WSG Board Meeting
DESCRIPTION:The September 2020 WSG Board Meeting has been scheduled for the third Friday in September to accommodate preparations for the AGM.   Because of  COVID restrictions\, the meeting will be held out-of-doors\, in  the lawn area behind the garages at 582-585. \nBoard meetings are open to all Weathersfield homeowners.  However\,  homeowners who wish to attend should call President Jo Bolig\, (919) 542-0780‬\, to let her know of their intent.  All attendees are required to wear face masks throughout the meeting.  You will also need to bring your own lawn chair.  The current NC rules restrict outside gatherings to no more that 25 attendees\, but the board may need to restrict attendance further to accommodate the space available. \nThe WSG Board will also hold an executive session at the end of the regular meeting.  The execution session is closed to non-board members or officers.
URL:https://www.weathersfieldsg.org/event/september-2020-wsg-board-meeting/
LOCATION:Weathersfield outside venue\, Weathersfield\, Pittsboro\, NC\, 27312\, United States
CATEGORIES:Board Meeting
END:VEVENT
BEGIN:VEVENT
DTSTART;TZID=America/New_York:20200615T080000
DTEND;TZID=America/New_York:20200625T170000
DTSTAMP:20260423T173012
CREATED:20200420T131822Z
LAST-MODIFIED:20200528T204403Z
UID:7221-1592208000-1593104400@www.weathersfieldsg.org
SUMMARY:2020 Pressure Washing
DESCRIPTION:The WSG Board has contracted with Southern Outdoor Restoration to pressure wash Weathersfield townhouses and garages. The project is scheduled for June 15-25\, 2020.
URL:https://www.weathersfieldsg.org/event/2020-power-washing/
LOCATION:NC
END:VEVENT
BEGIN:VEVENT
DTSTART;TZID=America/New_York:20200529T140000
DTEND;TZID=America/New_York:20200529T160000
DTSTAMP:20260423T173012
CREATED:20190813T105301Z
LAST-MODIFIED:20200520T123421Z
UID:6773-1590760800-1590768000@www.weathersfieldsg.org
SUMMARY:May 2020 WSG Board Meeting
DESCRIPTION:The May 2020 meeting will be held on the fifth Friday in May at 2:00 PM.  Because of the COVID-19 restrictions\, the meeting will be held via teleconference and consequently not open to Weathersfield homeowners.
URL:https://www.weathersfieldsg.org/event/may-2020-wsg-board-meeting/
LOCATION:The Gathering Place\, 26 Swim & Croquet\, Pittsboro\, NC\, 27312\, United States
CATEGORIES:Board Meeting
END:VEVENT
BEGIN:VEVENT
DTSTART;TZID=America/New_York:20200515T170000
DTEND;TZID=America/New_York:20200515T190000
DTSTAMP:20260423T173012
CREATED:20200220T195216Z
LAST-MODIFIED:20200322T151358Z
UID:7137-1589562000-1589569200@www.weathersfieldsg.org
SUMMARY:Postponed: 2020 Spring Fling
DESCRIPTION:This year’s Spring Fling will be help on Friday\, May 15 at the Grove from 5 pm to 7 pm.
URL:https://www.weathersfieldsg.org/event/2020-spring-fling/
LOCATION:The Grove (at the end of Weathersfield road)
CATEGORIES:Community Events
END:VEVENT
BEGIN:VEVENT
DTSTART;TZID=America/New_York:20200424T140000
DTEND;TZID=America/New_York:20200424T160000
DTSTAMP:20260423T173012
CREATED:20190813T105018Z
LAST-MODIFIED:20190813T105018Z
UID:6771-1587736800-1587744000@www.weathersfieldsg.org
SUMMARY:April 2020 WSG Board Meeting
DESCRIPTION:2020 WSG Board meetings will be held in January\, February\, March\, April\, May\, September\, October and December normally on the fourth Friday of each month at 2:00 PM at The Gathering Place.  Board meetings are open to all Weathersfield homeowners.
URL:https://www.weathersfieldsg.org/event/april-2020-wsg-board-meeting/
LOCATION:The Gathering Place\, 26 Swim & Croquet\, Pittsboro\, NC\, 27312\, United States
CATEGORIES:Board Meeting
END:VEVENT
BEGIN:VEVENT
DTSTART;TZID=America/New_York:20200327T140000
DTEND;TZID=America/New_York:20200327T160000
DTSTAMP:20260423T173012
CREATED:20190813T104854Z
LAST-MODIFIED:20190813T104854Z
UID:6769-1585317600-1585324800@www.weathersfieldsg.org
SUMMARY:March 2020 WSG Board Meeting
DESCRIPTION:2020 WSG Board meetings will be held in January\, February\, March\, April\, May\, September\, October and December normally on the fourth Friday of each month at 2:00 PM at The Gathering Place.  Board meetings are open to all Weathersfield homeowners.
URL:https://www.weathersfieldsg.org/event/march-2020-wsg-board-meeting/
LOCATION:The Gathering Place\, 26 Swim & Croquet\, Pittsboro\, NC\, 27312\, United States
CATEGORIES:Board Meeting
END:VEVENT
BEGIN:VEVENT
DTSTART;TZID=America/New_York:20200228T140000
DTEND;TZID=America/New_York:20200228T160000
DTSTAMP:20260423T173012
CREATED:20190813T005920Z
LAST-MODIFIED:20190813T005920Z
UID:6767-1582898400-1582905600@www.weathersfieldsg.org
SUMMARY:February 2020 WSG Board Meeting
DESCRIPTION:2020 WSG Board meetings will be held in January\, February\, March\, April\, May\, September\, October and December normally on the fourth Friday of each month at 2:00 PM at The Gathering Place.  Board meetings are open to all Weathersfield homeowners.
URL:https://www.weathersfieldsg.org/event/february-2020-wsg-board-meeting/
LOCATION:The Gathering Place\, 26 Swim & Croquet\, Pittsboro\, NC\, 27312\, United States
CATEGORIES:Board Meeting
END:VEVENT
BEGIN:VEVENT
DTSTART;TZID=America/New_York:20200213T080000
DTEND;TZID=America/New_York:20200213T170000
DTSTAMP:20260423T173012
CREATED:20200202T204545Z
LAST-MODIFIED:20200202T204545Z
UID:7123-1581580800-1581613200@www.weathersfieldsg.org
SUMMARY:Pre-Emergent Lawn Application
DESCRIPTION:The first round of pre-emergent weeding application will occur on February 13\, weather permitting.  As a reminder\, please do not stop or talk to the Ruppert Team.  They are here to do regular maintenance and cannot take special requests.  If you have any questions\, please contact Hope Weber\, Landscape Chair.  Thank you.
URL:https://www.weathersfieldsg.org/event/pre-emergent-lawn-application/
LOCATION:NC
CATEGORIES:Landscaping
END:VEVENT
BEGIN:VEVENT
DTSTART;VALUE=DATE:20200128
DTEND;VALUE=DATE:20200129
DTSTAMP:20260423T173012
CREATED:20200116T184241Z
LAST-MODIFIED:20200116T192102Z
UID:7095-1580169600-1580255999@www.weathersfieldsg.org
SUMMARY:Roof Blowing Today
DESCRIPTION:Weather permitting\, the crew from Squeaky Clean will be blowing off roofs for the townhouses and garages on Tuesday\, January 28\, 2020. Questions: Contact Michelle at hoa@millhouseproperties.com or 919-448-5150.
URL:https://www.weathersfieldsg.org/event/roof-blowing-today/
LOCATION:NC
CATEGORIES:Services
END:VEVENT
BEGIN:VEVENT
DTSTART;TZID=America/New_York:20200124T140000
DTEND;TZID=America/New_York:20200124T160000
DTSTAMP:20260423T173012
CREATED:20190813T004938Z
LAST-MODIFIED:20190813T010100Z
UID:6761-1579874400-1579881600@www.weathersfieldsg.org
SUMMARY:January 2020 WSG Board Meeting
DESCRIPTION:2020 WSG Board meetings will be held in January\, February\, March\, April\, May\, September\, October and December normally on the fourth Friday of each month at 2:00 PM at The Gathering Place.  Board meetings are open to all Weathersfield homeowners.
URL:https://www.weathersfieldsg.org/event/january-2020-wsg-board-meeting/
LOCATION:The Gathering Place\, 26 Swim & Croquet\, Pittsboro\, NC\, 27312\, United States
CATEGORIES:Board Meeting
END:VEVENT
BEGIN:VEVENT
DTSTART;VALUE=DATE:20200122
DTEND;VALUE=DATE:20200123
DTSTAMP:20260423T173012
CREATED:20191218T205213Z
LAST-MODIFIED:20191218T205213Z
UID:7023-1579651200-1579737599@www.weathersfieldsg.org
SUMMARY:Last Christmas Tree Pick-Up Day
DESCRIPTION:Christmas trees will be picked up on January 8 and 22\, weather permitting. Please leave the trees at the end of the close.
URL:https://www.weathersfieldsg.org/event/last-christmas-tree-pick-up-day/
LOCATION:NC
CATEGORIES:Services
END:VEVENT
BEGIN:VEVENT
DTSTART;VALUE=DATE:20200108
DTEND;VALUE=DATE:20200109
DTSTAMP:20260423T173012
CREATED:20191218T205107Z
LAST-MODIFIED:20191218T205107Z
UID:7021-1578441600-1578527999@www.weathersfieldsg.org
SUMMARY:Christmas Tree Pick-Up
DESCRIPTION:Christmas trees will be picked up on January 8 and 22\, weather permitting. Please leave the trees at the end of the close.
URL:https://www.weathersfieldsg.org/event/christmas-tree-pick-up/
LOCATION:NC
CATEGORIES:Services
END:VEVENT
BEGIN:VEVENT
DTSTART;TZID=America/New_York:20191220T140000
DTEND;TZID=America/New_York:20191220T160000
DTSTAMP:20260423T173012
CREATED:20190813T004703Z
LAST-MODIFIED:20190813T010023Z
UID:6759-1576850400-1576857600@www.weathersfieldsg.org
SUMMARY:December WSG Board Meeting
DESCRIPTION:2019 WSG Board meetings will be held in January\, February\, March\, April\, May\, September\, October and December.  The December 2019 meeting will be held on the third Friday of the month at 2:00 PM at The Gathering Place.  Board meetings are open to all Weathersfield homeowners.
URL:https://www.weathersfieldsg.org/event/december-wsg-board-meeting-2/
LOCATION:The Gathering Place\, 26 Swim & Croquet\, Pittsboro\, NC\, 27312\, United States
CATEGORIES:Board Meeting
END:VEVENT
BEGIN:VEVENT
DTSTART;TZID=America/New_York:20191207T180000
DTEND;TZID=America/New_York:20191207T180000
DTSTAMP:20260423T173012
CREATED:20190813T233720Z
LAST-MODIFIED:20191207T183159Z
UID:6779-1575741600-1575741600@www.weathersfieldsg.org
SUMMARY:2019 Weathersfield Holiday Party
DESCRIPTION:Menu includes a festive hors d’oeuvres buffet\, sweet holiday treats\, wine & soft drinks.
URL:https://www.weathersfieldsg.org/event/2019-weathersfield-holiday-party/
LOCATION:The Gathering Place\, 26 Swim & Croquet\, Pittsboro\, NC\, 27312\, United States
CATEGORIES:Community Events
END:VEVENT
BEGIN:VEVENT
DTSTART;TZID=America/New_York:20191102T143000
DTEND;TZID=America/New_York:20191102T160000
DTSTAMP:20260423T173012
CREATED:20190706T145929Z
LAST-MODIFIED:20191005T103826Z
UID:6722-1572705000-1572710400@www.weathersfieldsg.org
SUMMARY:Weathersfield Annual Meeting
DESCRIPTION:The 2019 Weathersfield Service Group (WSG) Annual General Meeting of homeowners will be held Saturday\, November 2 from 2;30 PM to 4:00 PM at the Gathering Place.  Homeowners will vote for candidates to fill coming WSG Board vacancies\, vote on proposed changes to the bylaws and conduct other business as may come up at the meeting.
URL:https://www.weathersfieldsg.org/event/weathersfield-annual-meeting/
LOCATION:The Gathering Place\, 26 Swim & Croquet\, Pittsboro\, NC\, 27312\, United States
CATEGORIES:WSG Homeowners Meeting
END:VEVENT
BEGIN:VEVENT
DTSTART;TZID=America/New_York:20191030T170000
DTEND;TZID=America/New_York:20191030T190000
DTSTAMP:20260423T173012
CREATED:20190323T141347Z
LAST-MODIFIED:20190329T200929Z
UID:6529-1572454800-1572462000@www.weathersfieldsg.org
SUMMARY:Last Wednesday Grove Gathering for the Season
DESCRIPTION:Your last chance to enjoy the Grove and neighbors on Wednesday evenings.
URL:https://www.weathersfieldsg.org/event/last-wednesday-grove-gathering-for-the-season/
LOCATION:The Grove (at the end of Weathersfield road)
CATEGORIES:Community Events
END:VEVENT
BEGIN:VEVENT
DTSTART;TZID=America/New_York:20191025T150000
DTEND;TZID=America/New_York:20191025T170000
DTSTAMP:20260423T173012
CREATED:20190813T004448Z
LAST-MODIFIED:20190813T234310Z
UID:6757-1572015600-1572022800@www.weathersfieldsg.org
SUMMARY:October 2019 WSG Board Meeting
DESCRIPTION:2019 WSG Board meetings will be held in January\, February\, March\, April\, May\, September\, October and December.  In October the Board meeting will begin at 3:00 PM at The Gathering Place.  Board meetings are open to all Weathersfield homeowners.
URL:https://www.weathersfieldsg.org/event/october-2019-wsg-board-meeting/
LOCATION:The Gathering Place\, 26 Swim & Croquet\, Pittsboro\, NC\, 27312\, United States
CATEGORIES:Board Meeting
END:VEVENT
BEGIN:VEVENT
DTSTART;TZID=America/New_York:20190924T140000
DTEND;TZID=America/New_York:20190924T153000
DTSTAMP:20260423T173012
CREATED:20190903T170831Z
LAST-MODIFIED:20190903T170831Z
UID:6825-1569333600-1569339000@www.weathersfieldsg.org
SUMMARY:Fall Planting Gardening Session
DESCRIPTION:The Landscape Committee (Grounds Maintenance and Lot Appearance) is interested in offering educational gardening sessions in the fall and spring seasons to Weathersfield residents on specific topics regarding plantings. \nBeginning in September 2019\, we have scheduled a session on shrubs/bushes for fall plantings\,  since October through December is the best time to plant shrubs.  Members of the Landscape Committee will be available to discuss a range of bushes/shrubs that are evergreen\, deer resistant and suitable for our community.  They will also review resources available on-line to consult and the various nurseries offering shrubs/bushes that you can view. \nDate:  Tuesday\, September 24\, 2019 –- 2:00-3:30 pm \nLocation:  Shelia Creth – 587  Woodbury \nIf you plan to attend\, please RSVP no later than September 18th\, 2019 to Shelia. \nPhone:  919-533-6187 \nEmail:  sdcreth@aol.com
URL:https://www.weathersfieldsg.org/event/fall-planting-gardening-session/
LOCATION:587 Woodbury
CATEGORIES:Landscaping
END:VEVENT
BEGIN:VEVENT
DTSTART;TZID=America/New_York:20190913T140000
DTEND;TZID=America/New_York:20190913T160000
DTSTAMP:20260423T173012
CREATED:20181225T153707Z
LAST-MODIFIED:20190813T233246Z
UID:6166-1568383200-1568390400@www.weathersfieldsg.org
SUMMARY:September 2019 WSG Board Meeting
DESCRIPTION:The September 2019 WSG Board Meeting has been scheduled for the third Friday in September to accomodate preparations for the AGM.   Board meetings are open to all Weathersfield homeowners.
URL:https://www.weathersfieldsg.org/event/september-2019-wsg-board-meeting/
LOCATION:The Gathering Place\, 26 Swim & Croquet\, Pittsboro\, NC\, 27312\, United States
CATEGORIES:Board Meeting
END:VEVENT
END:VCALENDAR